BEGIN:VCALENDAR
VERSION:2.0
PRODID:-//https://www.federrafting.it///NONSGML kigkonsult.se iCalcreator 2.10.15//
METHOD:PUBLISH
BEGIN:VEVENT
UID:20260420T112638CEST-778284aOj3@https://www.federrafting.it/
DTSTAMP:20260420T092638Z
DESCRIPTION:&nbsp\;Modulo di iscrizione al raduno&nbsp\; &nbsp\; &nbsp\; &n
 bsp\; &nbsp\; &nbsp\; &nbsp\;&nbsp\;Modulo di tesseramento https://www.fed
 errafting.it/rafting-agonistico/eventi/eventi-passati/evento/90-raduno-ape
 rto-valstagna.html
DTSTART:20170311T142800Z
DTEND:20170312T142800Z
LOCATION:Solagna (VI) - presso Valbrenta Team  (Via Fontanazzi\, 1\, 36020 
 Solagna VI\, Italia)
SUMMARY:Raduno aperto/ Valstagna
URL:https://www.federrafting.it/rafting-agonistico/eventi/eventi-passati/ev
 ento/90-raduno-aperto-valstagna.html
END:VEVENT
END:VCALENDAR
