BEGIN:VCALENDAR
VERSION:2.0
PRODID:-//https://www.federrafting.it///NONSGML kigkonsult.se iCalcreator 2.10.15//
METHOD:PUBLISH
BEGIN:VEVENT
UID:20260422T102450CEST-3115zIlpT0@https://www.federrafting.it/
DTSTAMP:20260422T082450Z
DESCRIPTION:Campionati studenteschi rivolti a studenti delle scuole medie i
 nferiori e superiori. Per gli studenti dai 10 ai 14 anni\, edizione region
 ale del Trofeo CONI https://www.federrafting.it/rafting-agonistico/eventi/
 eventi-passati/evento/68-campionato-studentesco-rivolto-a-studenti-delle-s
 cuole-medie-inferiori-e-superiori.html
DTSTART:20160526T154100Z
DTEND:20160526T154100Z
LOCATION:presso Rafting Aventure Villeneuve - loc. Chavonne (11018 Villeneu
 ve AO\, Italia)
SUMMARY:Campionato studentesco rivolto a studenti delle scuole medie inferi
 ori e superiori
URL:https://www.federrafting.it/rafting-agonistico/eventi/eventi-passati/ev
 ento/68-campionato-studentesco-rivolto-a-studenti-delle-scuole-medie-infer
 iori-e-superiori.html
END:VEVENT
END:VCALENDAR
