BEGIN:VCALENDAR
VERSION:2.0
PRODID:-//https://www.federrafting.it///NONSGML kigkonsult.se iCalcreator 2.10.15//
METHOD:PUBLISH
BEGIN:VEVENT
UID:20260422T114655CEST-9489S9iuXL@https://www.federrafting.it/
DTSTAMP:20260422T094655Z
DESCRIPTION:25-29 maggio Maggio orario: 10\,00-16\,00Bando https://www.fede
 rrafting.it/rafting-agonistico/eventi/eventi-passati/evento/67-europe-cup-
 r6-sprint-h2h\,-slalom\,-downriver-r6.html
DTSTART:20160525T080700Z
DTEND:20160529T080700Z
LOCATION:Georgia -  Borjomi - Mtkvari River - contact eurocupgeorgia@gmail.
 com (Georgia -  Borjomi - Mtkvari River - contact eurocupgeorgia@gmail.com
 )
SUMMARY:Europe Cup R6 Sprint. H2H\, Slalom\, Downriver R6
URL:https://www.federrafting.it/rafting-agonistico/eventi/eventi-passati/ev
 ento/67-europe-cup-r6-sprint-h2h,-slalom,-downriver-r6.html
END:VEVENT
END:VCALENDAR
