BEGIN:VCALENDAR
VERSION:2.0
PRODID:-//https://www.federrafting.it///NONSGML kigkonsult.se iCalcreator 2.10.15//
METHOD:PUBLISH
BEGIN:VEVENT
UID:20260420T120807CEST-7255Ln6I9m@https://www.federrafting.it/
DTSTAMP:20260420T100807Z
DESCRIPTION:17/22 Maggio https://www.federrafting.it/rafting-agonistico/eve
 nti/eventi-passati/evento/65-european-champs-r4-sprint\,-h2h\,-slalom\,-do
 wnriver-prove-valide-per-selezione-equipaggi-che-parteciperanno-ai-mondial
 i-r4-negli-emirati-arabi\,-ad-ottobre.html
DTSTART:20160517T072400Z
DTEND:20160522T072400Z
LOCATION:Tacen\, Slovenia (Tacen\, Slovenia)
SUMMARY:European Champs R4 Sprint\, H2H\, Slalom\, Downriver (prove valide 
 per selezione equipaggi che parteciperanno ai Mondiali R4 negli Emirati Ar
 abi\, ad ottobre)
URL:https://www.federrafting.it/rafting-agonistico/eventi/eventi-passati/ev
 ento/65-european-champs-r4-sprint,-h2h,-slalom,-downriver-prove-valide-per
 -selezione-equipaggi-che-parteciperanno-ai-mondiali-r4-negli-emirati-arabi
 ,-ad-ottobre.html
END:VEVENT
END:VCALENDAR
