BEGIN:VCALENDAR
VERSION:2.0
PRODID:-//https://www.federrafting.it///NONSGML kigkonsult.se iCalcreator 2.10.15//
METHOD:PUBLISH
BEGIN:VEVENT
UID:20260422T102356CEST-33746xZwH7@https://www.federrafting.it/
DTSTAMP:20260422T082356Z
DESCRIPTION:Data: 19 Settembre orario: 09\,00-18\,00BandoRisultati https://
 www.federrafting.it/rafting-agonistico/eventi/eventi-passati/evento/35-eur
 ope-cup-tacen-slovenia-europe-cup-r4-sprint\,-h2h\,-slalom.html
DTSTART:20150919T062600Z
DTEND:20150919T062600Z
LOCATION:Tacen\, Slovenia (Tacen\, Slovenia)
SUMMARY:Europe Cup Tacen - Slovenia Europe Cup R4 Sprint\, H2H\, Slalom
URL:https://www.federrafting.it/rafting-agonistico/eventi/eventi-passati/ev
 ento/35-europe-cup-tacen-slovenia-europe-cup-r4-sprint,-h2h,-slalom.html
END:VEVENT
END:VCALENDAR
