BEGIN:VCALENDAR
VERSION:2.0
PRODID:-//https://www.federrafting.it///NONSGML kigkonsult.se iCalcreator 2.10.15//
METHOD:PUBLISH
BEGIN:VEVENT
UID:20260422T102323CEST-54526k7Bim@https://www.federrafting.it/
DTSTAMP:20260422T082323Z
DESCRIPTION:Data: 1/2 Agosto orario: 09\,00 - 18.00BandoRisultati https://w
 ww.federrafting.it/rafting-agonistico/eventi/eventi-passati/evento/32-copp
 a-europa-assoluti-r6-coppa-europa\,-campionati-italiani-assoluti-r6-sprint
 \,-testa-testa\,-discesa-classica.html
DTSTART:20150801T091800Z
DTEND:20150801T091800Z
LOCATION:Villeneuve (AO) - c/o Rafting Aventure (Villeneuve (AO) - c/o Raft
 ing Aventure)
SUMMARY:Coppa Europa/Assoluti R6 Coppa Europa\, Campionati italiani assolut
 i R6 sprint\, testa/testa\, discesa classica
URL:https://www.federrafting.it/rafting-agonistico/eventi/eventi-passati/ev
 ento/32-coppa-europa-assoluti-r6-coppa-europa,-campionati-italiani-assolut
 i-r6-sprint,-testa-testa,-discesa-classica.html
END:VEVENT
END:VCALENDAR
