BEGIN:VCALENDAR
VERSION:2.0
PRODID:-//https://www.federrafting.it///NONSGML kigkonsult.se iCalcreator 2.10.15//
METHOD:PUBLISH
BEGIN:VEVENT
UID:20260420T102438CEST-9482N8vvtM@https://www.federrafting.it/
DTSTAMP:20260420T082438Z
DESCRIPTION:Modulo di iscrizione&nbsp\; &nbsp\; &nbsp\; &nbsp\; &nbsp\; &nb
 sp\; Modulo di tesseramento https://www.federrafting.it/rafting-agonistico
 /eventi/eventi-passati/evento/221-raduno-agonistico-para-rafting.html
DTSTART:20190426T093600Z
DTEND:20190426T093600Z
LOCATION:Saluggia (TO) - c/o Movimento e Natura (Via Canal Farini\, 13040 S
 aluggia VC\, Italia)
SUMMARY:Raduno agonistico para rafting
URL:https://www.federrafting.it/rafting-agonistico/eventi/eventi-passati/ev
 ento/221-raduno-agonistico-para-rafting.html
END:VEVENT
END:VCALENDAR
