BEGIN:VCALENDAR
VERSION:2.0
PRODID:-//https://www.federrafting.it///NONSGML kigkonsult.se iCalcreator 2.10.15//
METHOD:PUBLISH
BEGIN:VEVENT
UID:20260422T114450CEST-3443jZiZGv@https://www.federrafting.it/
DTSTAMP:20260422T094450Z
DESCRIPTION:Modulo di iscrizione al raduno&nbsp\; &nbsp\; &nbsp\; &nbsp\; &
 nbsp\; &nbsp\; Modulo di iscrizione team&nbsp\; &nbsp\; &nbsp\; &nbsp\;\n&
 nbsp\;\nSCADENZA ISCRIZIONE: 20 APRILE 2019 https://www.federrafting.it/ra
 fting-agonistico/eventi/eventi-passati/evento/220-test-di-selezione\,-rivo
 lto-alle-squadre-nazionali\,-per-partecipazione-ai-campionati-mondiali-in-
 turchia.html
DTSTART:20190425T114300Z
DTEND:20190425T114300Z
LOCATION:Ivrea (TO) - c/o Ivrea Canoa Club (Via Dora Baltea\, 10015 Ivrea T
 O\, Italia)
SUMMARY:Test di selezione\, rivolto alle squadre nazionali\, per partecipaz
 ione ai Campionati Mondiali in Turchia
URL:https://www.federrafting.it/rafting-agonistico/eventi/eventi-passati/ev
 ento/220-test-di-selezione,-rivolto-alle-squadre-nazionali,-per-partecipaz
 ione-ai-campionati-mondiali-in-turchia.html
END:VEVENT
END:VCALENDAR
