BEGIN:VCALENDAR
VERSION:2.0
PRODID:-//https://www.federrafting.it///NONSGML kigkonsult.se iCalcreator 2.10.15//
METHOD:PUBLISH
BEGIN:VEVENT
UID:20260420T114022CEST-7267R2Vhev@https://www.federrafting.it/
DTSTAMP:20260420T094022Z
DESCRIPTION:Modulo di iscrizione&nbsp\; &nbsp\; &nbsp\; &nbsp\;&nbsp\; Modu
 lo di tesseramento (per i non ancora tesserati 2019) https://www.federraft
 ing.it/rafting-agonistico/eventi/eventi-passati/evento/212-raduno-agonisti
 co-squadre-nazionali.html
DTSTART:20190316T002300Z
DTEND:20190317T002300Z
LOCATION:Ivrea (TO) - c/o Ivrea Canoa Club (Via Dora Baltea\, 10015 Ivrea T
 O\, Italia)
SUMMARY:Raduno agonistico squadre nazionali
URL:https://www.federrafting.it/rafting-agonistico/eventi/eventi-passati/ev
 ento/212-raduno-agonistico-squadre-nazionali.html
END:VEVENT
END:VCALENDAR
