BEGIN:VCALENDAR
VERSION:2.0
PRODID:-//https://www.federrafting.it///NONSGML kigkonsult.se iCalcreator 2.10.15//
METHOD:PUBLISH
BEGIN:VEVENT
UID:20260422T103400CEST-4602wN4SUu@https://www.federrafting.it/
DTSTAMP:20260422T083400Z
DESCRIPTION:Data: 22 Maggio orario: 08.30 - 13.00Risultati https://www.fede
 rrafting.it/rafting-agonistico/eventi/eventi-passati/evento/21-campionati-
 interprovinciali-studenteschi-rivolti-a-studenti-delle-scuole-medie-superi
 ori-del-piemonte-e-della-lombardia.html
DTSTART:20150522T125900Z
DTEND:20150522T125900Z
LOCATION:Balmuccia (VC) - c/o Centro canoa e rafting Monrosa (Balmuccia (VC
 ) - c/o Centro canoa e rafting Monrosa)
SUMMARY:Campionati interprovinciali studenteschi rivolti a studenti delle s
 cuole medie superiori del Piemonte e della Lombardia
URL:https://www.federrafting.it/rafting-agonistico/eventi/eventi-passati/ev
 ento/21-campionati-interprovinciali-studenteschi-rivolti-a-studenti-delle-
 scuole-medie-superiori-del-piemonte-e-della-lombardia.html
END:VEVENT
END:VCALENDAR
