BEGIN:VCALENDAR
VERSION:2.0
PRODID:-//https://www.federrafting.it///NONSGML kigkonsult.se iCalcreator 2.10.15//
METHOD:PUBLISH
BEGIN:VEVENT
UID:20260420T120248CEST-6689wG56MD@https://www.federrafting.it/
DTSTAMP:20260420T100248Z
DESCRIPTION:TUTTI I PARTECIPANTI DOVRANNO RISULTARE TESSERATI ALLA FEDERAZI
 ONE\, A CURA DELLA SOCIETA' DI APPARTENENZA\n&nbsp\;\nModulo di iscrizione
  al raduno&nbsp\; &nbsp\; &nbsp\; &nbsp\; &nbsp\; &nbsp\; &nbsp\; &nbsp\; 
 &nbsp\; &nbsp\;Modulo di tesseramento https://www.federrafting.it/rafting-
 agonistico/eventi/eventi-passati/evento/191-raduno-agonistico-aperto-a-tut
 te-le-persone-con-disabilità-senza-distinzioni-selezione-per-partecipare-a
 l-test-event-para-rafting-pre-world-championships-in-ucraina\,-dal-4-al-7-
 ottobre-2018.html
DTSTART:20180915T102400Z
DTEND:20180916T102400Z
LOCATION:Fiume Po\, luogo di ritrovo da definirsi ()
SUMMARY:Raduno agonistico aperto a tutte le persone con disabilità (senza d
 istinzioni). Selezione per partecipare al Test-event (Para rafting pre Wor
 ld Championships) in Ucraina\, dal 4 al 7 ottobre 2018
URL:https://www.federrafting.it/rafting-agonistico/eventi/eventi-passati/ev
 ento/191-raduno-agonistico-aperto-a-tutte-le-persone-con-disabilità-senza-
 distinzioni-selezione-per-partecipare-al-test-event-para-rafting-pre-world
 -championships-in-ucraina,-dal-4-al-7-ottobre-2018.html
END:VEVENT
END:VCALENDAR
