BEGIN:VCALENDAR
VERSION:2.0
PRODID:-//https://www.federrafting.it///NONSGML kigkonsult.se iCalcreator 2.10.15//
METHOD:PUBLISH
BEGIN:VEVENT
UID:20260422T114629CEST-0428WlvgvR@https://www.federrafting.it/
DTSTAMP:20260422T094629Z
DESCRIPTION:Locandina&nbsp\;ext&nbsp\; &nbsp\;Locandina int.&nbsp\; Modulo 
 iscrizione scuola&nbsp\; &nbsp\; &nbsp\; Autorizzazione partecipazione all
 ievi\n&nbsp\;\n&nbsp\; https://www.federrafting.it/rafting-agonistico/even
 ti/eventi-passati/evento/173-campionato-studentesco-scuole-secondarie-di-s
 econdo-grado-lombardia.html
DTSTART:20180518T143000Z
DTEND:20180518T143000Z
LOCATION:fiume Sesia\, presso Monrosa Rafting - via Roma\, 1  (Via Roma\, 1
 \, 13020 Balmuccia VC\, Italia)
SUMMARY:Campionato Studentesco scuole secondarie di secondo grado - Lombard
 ia
URL:https://www.federrafting.it/rafting-agonistico/eventi/eventi-passati/ev
 ento/173-campionato-studentesco-scuole-secondarie-di-secondo-grado-lombard
 ia.html
END:VEVENT
END:VCALENDAR
