BEGIN:VCALENDAR
VERSION:2.0
PRODID:-//https://www.federrafting.it///NONSGML kigkonsult.se iCalcreator 2.10.15//
METHOD:PUBLISH
BEGIN:VEVENT
UID:20260422T114758CEST-6660B1VFfh@https://www.federrafting.it/
DTSTAMP:20260422T094758Z
DESCRIPTION:Regolamento Trofeo CONI 2017&nbsp\; &nbsp\; &nbsp\; Indirizzi H
 otels&nbsp\; &nbsp\; &nbsp\; Impianti&nbsp\; &nbsp\; &nbsp\;Orari gare&nbs
 p\; &nbsp\; Comunicato https://www.federrafting.it/rafting-agonistico/even
 ti/eventi-passati/evento/134-trofeo-coni-kinder-sport.html
DTSTART:20170921T152400Z
DTEND:20170924T152400Z
LOCATION:Senigallia - vedi allegati annessi (60019 Senigallia AN\, Italia)
SUMMARY:Trofeo CONI Kinder Sport
URL:https://www.federrafting.it/rafting-agonistico/eventi/eventi-passati/ev
 ento/134-trofeo-coni-kinder-sport.html
END:VEVENT
END:VCALENDAR
