BEGIN:VCALENDAR
VERSION:2.0
PRODID:-//https://www.federrafting.it///NONSGML kigkonsult.se iCalcreator 2.10.15//
METHOD:PUBLISH
BEGIN:VEVENT
UID:20260420T114107CEST-88462UGfVv@https://www.federrafting.it/
DTSTAMP:20260420T094107Z
DESCRIPTION:Modulo iscrizione gara https://www.federrafting.it/rafting-agon
 istico/eventi/eventi-passati/evento/113-campionati-sportivi-studenteschi.h
 tml
DTSTART;VALUE=DATE:20170608
LOCATION:Valle d'Aosta - presso Rafting Aventure Villeneuve ( AO)  (Localit
 à Chavonne\, 11018 Villeneuve AO\, Italia)
SUMMARY:Campionati sportivi Studenteschi 
URL:https://www.federrafting.it/rafting-agonistico/eventi/eventi-passati/ev
 ento/113-campionati-sportivi-studenteschi.html
END:VEVENT
END:VCALENDAR
