BEGIN:VCALENDAR
VERSION:2.0
PRODID:-//https://www.federrafting.it///NONSGML kigkonsult.se iCalcreator 2.10.15//
METHOD:PUBLISH
BEGIN:VEVENT
UID:20260420T114414CEST-3761tLsNvR@https://www.federrafting.it/
DTSTAMP:20260420T094414Z
DESCRIPTION:Link per iscrizione gare\n&nbsp\;\nBando di gara\n&nbsp\;\nCert
 ificato medico obbligatorio in corso di validità https://www.federrafting.
 it/rafting-agonistico/eventi/evento/714-campionato-italiano-slalom-cat-all
 ievi\,-cadetti\,-ragazzi-gare-nazionali-slalom-e-discesa-classica-tutte-le
 -categorie-campionato-italiano-packraft-tutte-le-categorie-premiazioni-cla
 ssifica-toni-agostini-2025.html
DTSTART:20260321T080000Z
DTEND:20260322T170000Z
LOCATION:Bagni di Lucca\, presso RKA Rockonda SSD (Località Cevoli\, Str. d
 ell'Abetone e del Brennero\, 55022 Bagni di Lucca LU\, Italia)
SUMMARY:Campionato Italiano Slalom (cat. Allievi\, Cadetti\, Ragazzi)\; Gar
 e Nazionali Slalom e Discesa Classica (tutte le categorie)\; Campionato It
 aliano Packraft (tutte le categorie). PREMIAZIONI CLASSIFICA TONI AGOSTINI
  2025
URL:https://www.federrafting.it/rafting-agonistico/eventi/evento/714-campio
 nato-italiano-slalom-cat-allievi,-cadetti,-ragazzi-gare-nazionali-slalom-e
 -discesa-classica-tutte-le-categorie-campionato-italiano-packraft-tutte-le
 -categorie-premiazioni-classifica-toni-agostini-2025.html
END:VEVENT
END:VCALENDAR
