BEGIN:VCALENDAR
VERSION:2.0
PRODID:-//https://www.federrafting.it///NONSGML kigkonsult.se iCalcreator 2.10.15//
METHOD:PUBLISH
BEGIN:VEVENT
UID:20260422T070527CEST-6209Nu2UXv@https://www.federrafting.it/
DTSTAMP:20260422T050527Z
DESCRIPTION:Link compilazione modulo iscrizione attività formativa 2026\nL'
 iscrizione ai corsi avviene esclusivamente online.\nLa compilazione del mo
 dulo di adesione\, insieme al modulo di tesseramento come Addetto all'Orga
 nizzazione Logistica\, così come il pagamento del corso stesso\, devono av
 venire&nbsp\;entro 15 giorni&nbsp\;dall'inizio dell'evento\; in caso di pa
 gamenti pervenuti oltre il termine dei 15 giorni\, verrà applicata una&nbs
 p\;mora del 20%&nbsp\;sul costo del corso. https://www.federrafting.it/for
 mazione/calendario-corsi/evento/739-corso-per-addetto-all-organizzazione-l
 ogistica.html
DTSTART;VALUE=DATE:20260426
LOCATION:presso Garfagnana Rafting\, SS12 dell'Abetone e del Brennero\, snc
  - Chifenti\, Borgo a Mozzano (LU) ()
SUMMARY:Corso per addetto all'organizzazione logistica
URL:https://www.federrafting.it/formazione/calendario-corsi/evento/739-cors
 o-per-addetto-all-organizzazione-logistica.html
END:VEVENT
END:VCALENDAR
