BEGIN:VCALENDAR
VERSION:2.0
PRODID:-//https://www.federrafting.it///NONSGML kigkonsult.se iCalcreator 2.10.15//
METHOD:PUBLISH
BEGIN:VEVENT
UID:20260424T101318CEST-5684gmSL2m@https://www.federrafting.it/
DTSTAMP:20260424T081318Z
DESCRIPTION:\nLink compilazione modulo iscrizione attività formativa 2026\n
 \nALL'ATTO DELL'ISCRIZIONE OCCORRE PRESENTARE IN SEGRETERIA:&nbsp\;\n\n- C
 ERTIFICATO MEDICO IN CORSO DI VALIDITA'\n-&nbsp\;CONCLUSIONE CORSO ONLINE 
 +TESINA&nbsp\;PER CHI NON AVESSE GIA' PROVVEDUTO\, PENA LA NON AMMISSIONE 
 AL CORSO\n\nL'iscrizione ai corsi avviene esclusivamente online.\nLa compi
 lazione del modulo di adesione\, insieme alla consegna dei documenti (cert
 ificato medico e BLSD)\, devono avvenire&nbsp\;entro 15 giorni&nbsp\;dall'
 inizio dell'evento.\n\n https://www.federrafting.it/formazione/calendario-
 corsi/evento/735-aggiornamento-maestri.html
DTSTART;VALUE=DATE:20260425
LOCATION:presso Sesia Rafting\, fraz. Isola\, 3\, Vocca (VC) (13020 Vocca V
 C\, Italia)
SUMMARY:Aggiornamento Maestri
URL:https://www.federrafting.it/formazione/calendario-corsi/evento/735-aggi
 ornamento-maestri.html
END:VEVENT
END:VCALENDAR
