BEGIN:VCALENDAR
VERSION:2.0
PRODID:-//https://www.federrafting.it///NONSGML kigkonsult.se iCalcreator 2.10.15//
METHOD:PUBLISH
BEGIN:VEVENT
UID:20260424T101350CEST-17907v7GK3@https://www.federrafting.it/
DTSTAMP:20260424T081350Z
DESCRIPTION:Link compilazione modulo iscrizione attività formativa 2026&nbs
 p\;\nEccezionalmente le due parti del corso si terranno in Valle d'Aosta\,
  presso Inti Rafting e saranno così suddivise: - prima parte: 2 giorni\, 1
 6 e 17 maggio \n- seconda parte: di 8 giorni\, dal 20 al 27 maggio\nALL'AT
 TO DELL'ISCRIZIONE OCCORRE PRESENTARE IN SEGRETERIA:&nbsp\;\n\n- CERTIFICA
 TO MEDICO IN CORSO DI VALIDITA'\n- BLSD INCORSO DI VALIDITA' (DUE ANNI)\n-
  CONCLUSIONE CORSO ONLINE +TESINA PER COLORO CHE NON VI AVESSERO GIA' PROV
 VEDUTO\n\nPENA LA NON AMMISSIONE AL CORSO\n&nbsp\;\nL'iscrizione ai corsi 
 avviene esclusivamente online.\nLa compilazione del modulo di adesione\, i
 nsieme alla consegna dei documenti (certificato medico e BLSD)\, così come
  il pagamento del corso stesso\, devono avvenire&nbsp\;entro 15 giorni&nbs
 p\;dall'inizio dell'evento\; oltre questa data non sarà più possibile iscr
 iversi e in caso di pagamenti pervenuti oltre il termine dei 15 giorni\, v
 errà applicata una&nbsp\;mora del 20%&nbsp\;sul costo del corso. https://w
 ww.federrafting.it/formazione/calendario-corsi/evento/703-corso-per-istrut
 tore-di-rafting-spec-3°-grado-seconda-parte.html
DTSTART:20260520T070004Z
DTEND:20260527T160004Z
LOCATION:presso Inti Rafting ASD\, loc. Condemine\, 7\, 11010 Avise AO ()
SUMMARY:Corso per Istruttore di Rafting Spec. 3° grado (seconda parte)
URL:https://www.federrafting.it/formazione/calendario-corsi/evento/703-cors
 o-per-istruttore-di-rafting-spec-3°-grado-seconda-parte.html
END:VEVENT
END:VCALENDAR
