BEGIN:VCALENDAR
VERSION:2.0
PRODID:-//https://www.federrafting.it///NONSGML kigkonsult.se iCalcreator 2.10.15//
METHOD:PUBLISH
BEGIN:VEVENT
UID:20260424T101955CEST-2263uaGDWj@https://www.federrafting.it/
DTSTAMP:20260424T081955Z
DESCRIPTION:Link compilazione modulo iscrizione attività formativa 2026\nEc
 cezionalmente le due parti del corso si terranno in Valle d'Aosta\, presso
  Inti Rafting e saranno così suddivise: - prima parte: 2 giorni\, 16 e 17 
 maggio \n- seconda parte: di 8 giorni\, dal 20 al 27 maggio\nALL'ATTO DELL
 'ISCRIZIONE OCCORRE PRESENTARE IN SEGRETERIA:&nbsp\;\n\n- CERTIFICATO MEDI
 CO IN CORSO DI VALIDITA'\n- BLSD INCORSO DI VALIDITA' (DUE ANNI)\n- CONCLU
 SIONE CORSO ONLINE +TESINA PER CHI NON AVESSE GIA' PROVVEDUTO\, PENA LA NO
 N AMMISSIONE AL CORSO\n\n&nbsp\;\nL'iscrizione ai corsi avviene esclusivam
 ente online.\nLa compilazione del modulo di adesione\, insieme alla conseg
 na dei documenti (certificato medico e BLSD)\, così come il pagamento del 
 corso stesso\, devono avvenire&nbsp\;entro 15 giorni&nbsp\;dall'inizio del
 l'evento\; oltre questa data non sarà più possibile iscriversi e in caso d
 i pagamenti pervenuti oltre il termine dei 15 giorni\, verrà applicata una
 &nbsp\;mora del 20%&nbsp\;sul costo del corso. https://www.federrafting.it
 /formazione/calendario-corsi/evento/702-corso-per-istruttore-di-rafting-sp
 ec-3°-grado-prima-parte.html
DTSTART:20260516T070000Z
DTEND:20260517T160000Z
LOCATION:presso Inti Rafting ASD\, loc. Condemine\, 7\, 11010 Avise AO ()
SUMMARY:Corso per Istruttore di Rafting Spec. 3° grado (prima parte)
URL:https://www.federrafting.it/formazione/calendario-corsi/evento/702-cors
 o-per-istruttore-di-rafting-spec-3°-grado-prima-parte.html
END:VEVENT
END:VCALENDAR
