BEGIN:VCALENDAR
VERSION:2.0
PRODID:-//https://www.federrafting.it///NONSGML kigkonsult.se iCalcreator 2.10.15//
METHOD:PUBLISH
BEGIN:VEVENT
UID:20260423T115653CEST-2525Mm7axz@https://www.federrafting.it/
DTSTAMP:20260423T095653Z
DESCRIPTION:Link compilazione modulo iscrizione attività formativa 2026\n&n
 bsp\;\nALL'ATTO DELL'ISCRIZIONE OCCORRE PRESENTARE IN SEGRETERIA:&nbsp\;\n
 \n- CERTIFICATO MEDICO IN CORSO DI VALIDITA'\n- BLSD\n-&nbsp\;CONCLUSIONE 
 CORSO ONLINE +TESINA&nbsp\;(SOLO PER COLORO CHE NON VI AVESSERO GIA' PROVV
 EDUTO)\n\nPENA LA NON AMMISSIONE AL CORSO\n&nbsp\;\nL'iscrizione ai corsi 
 avviene esclusivamente online.\nLa compilazione del modulo di adesione\, i
 nsieme alla consegna dei documenti (certificato medico e BLSD)\, così come
  il pagamento del corso stesso\, devono avvenire&nbsp\;entro 15 giorni&nbs
 p\;dall'inizio dell'evento\; in caso di pagamenti pervenuti oltre il termi
 ne dei 15 giorni\, verrà applicata una&nbsp\;mora del 20%&nbsp\;sul costo 
 del corso. https://www.federrafting.it/formazione/calendario-corsi/calenda
 rio-corsi-passati/evento/744-aggiornamento-tecnici.html
DTSTART;VALUE=DATE:20260526
LOCATION:presso CUS Verona - X Raft\, via del Pressennach\, Mezzana (TN) ()
SUMMARY:Aggiornamento tecnici
URL:https://www.federrafting.it/formazione/calendario-corsi/calendario-cors
 i-passati/evento/744-aggiornamento-tecnici.html
END:VEVENT
END:VCALENDAR
