BEGIN:VCALENDAR
VERSION:2.0
PRODID:-//https://www.federrafting.it///NONSGML kigkonsult.se iCalcreator 2.10.15//
METHOD:PUBLISH
BEGIN:VEVENT
UID:20260421T115503CEST-6756gS8fZw@https://www.federrafting.it/
DTSTAMP:20260421T095503Z
DESCRIPTION:Link compilazione modulo iscrizione attività formativa 2026\nAL
 L'ATTO DELL'ISCRIZIONE OCCORRE PRESENTARE IN SEGRETERIA:&nbsp\;\n\n- CERTI
 FICATO MEDICO IN CORSO DI VALIDITA'\n- CONCLUSIONE CORSO ONLINE +TESINA&nb
 sp\;\, ESCLUSIVAMENTE PER COLORO CHE NON VI AVESSERO GIA' PROVVEDUTO\n\n\n
 PENA LA NON AMMISSIONE AL CORSO\n&nbsp\;\nL'iscrizione ai corsi avviene es
 clusivamente online.\nLa compilazione del modulo di adesione\, insieme all
 a consegna dei documenti (certificato medico e BLSD)\, così come il pagame
 nto del corso stesso\, devono avvenire&nbsp\;entro 15 giorni&nbsp\;dall'in
 izio dell'evento\; oltre questa data non sarà più possibile iscriversi e i
 n caso di pagamenti pervenuti oltre il termine dei 15 giorni\, verrà appli
 cata una&nbsp\;mora del 20%&nbsp\;sul costo del corso. https://www.federra
 fting.it/formazione/calendario-corsi/calendario-corsi-passati/evento/701-c
 orso-di-abilitazione-al-packraft.html
DTSTART:20260411T070000Z
DTEND:20260412T160000Z
LOCATION:fiume Sesia\, presso Monrosa Rafting - via Roma\, 1 - Balmuccia (V
 C) (fiume Sesia\, presso Monrosa Rafting - via Roma\, 1 - Balmuccia (VC))
SUMMARY:Corso di abilitazione al Packraft
URL:https://www.federrafting.it/formazione/calendario-corsi/calendario-cors
 i-passati/evento/701-corso-di-abilitazione-al-packraft.html
END:VEVENT
END:VCALENDAR
