BEGIN:VCALENDAR
VERSION:2.0
PRODID:-//https://www.federrafting.it///NONSGML kigkonsult.se iCalcreator 2.10.15//
METHOD:PUBLISH
BEGIN:VEVENT
UID:20260423T132253CEST-5000kpUCBb@https://www.federrafting.it/
DTSTAMP:20260423T112253Z
DESCRIPTION:Ritrovo h 9\,00 presso base rafting RKA Rockonda\n&nbsp\;\nModu
 lo tesseramento&nbsp\; &nbsp\; &nbsp\; &nbsp\; &nbsp\; &nbsp\;Modulo iscri
 zione corso\n&nbsp\;\nALL'ATTO DELL'ISCRIZIONE OCCORRE PRESENTARE IN SEGRE
 TERIA:&nbsp\;\n\n- CERTIFICATO MEDICO IN CORSO DI VALIDITA'\n- CONCLUSIONE
  CORSO ONLINE +TESINA&nbsp\;\, ESCLUSIVAMENTE PER COLORO CHE NON VI AVESSE
 RO GIA' PROVVEDUTO IN PASSATO\n\nPENA LA NON AMMISSIONE AL CORSO https://w
 ww.federrafting.it/formazione/calendario-corsi/calendario-corsi-passati/ev
 ento/687-corso-di-abilitazione-al-packraft.html
DTSTART:20251114T092029Z
DTEND:20251115T112029Z
LOCATION:Bagni di Lucca\, presso RKA Rockonda SSD (Località Cevoli\, Str. d
 ell'Abetone e del Brennero\, 55022 Bagni di Lucca LU\, Italia)
SUMMARY:Corso di abilitazione al packraft
URL:https://www.federrafting.it/formazione/calendario-corsi/calendario-cors
 i-passati/evento/687-corso-di-abilitazione-al-packraft.html
END:VEVENT
END:VCALENDAR
