BEGIN:VCALENDAR
VERSION:2.0
PRODID:-//https://www.federrafting.it///NONSGML kigkonsult.se iCalcreator 2.10.15//
METHOD:PUBLISH
BEGIN:VEVENT
UID:20260424T122717CEST-88641vCpJ3@https://www.federrafting.it/
DTSTAMP:20260424T102717Z
DESCRIPTION:Data: 5 marzo orario: 09\,00 - 18\,00 Modulo d'iscrizione &nbsp
 \;Modulo di tesseramento https://www.federrafting.it/formazione/calendario
 -corsi/calendario-corsi-passati/evento/39-corso-di-aggiornamento-guide-raf
 ting-ii\,-iii-e-v-livello.html
DTSTART;VALUE=DATE:20160305
LOCATION:Calabria\, presso Lao Canyon Rafting - Corso Umberto I\, n. 120 (C
 orso Umberto I\, 87014 Laino Borgo CS\, Italia)
SUMMARY:Corso di aggiornamento guide rafting II\, III e V livello
URL:https://www.federrafting.it/formazione/calendario-corsi/calendario-cors
 i-passati/evento/39-corso-di-aggiornamento-guide-rafting-ii,-iii-e-v-livel
 lo.html
END:VEVENT
END:VCALENDAR
